BEGIN:VCALENDAR
VERSION:2.0
PRODID:-//Société d&#039;études françaises - ECPv6.3.2//NONSGML v1.0//EN
CALSCALE:GREGORIAN
METHOD:PUBLISH
X-ORIGINAL-URL:https://www.sef-bale.ch
X-WR-CALDESC:évènements pour Société d&#039;études françaises
REFRESH-INTERVAL;VALUE=DURATION:PT1H
X-Robots-Tag:noindex
X-PUBLISHED-TTL:PT1H
BEGIN:VTIMEZONE
TZID:Europe/Paris
BEGIN:DAYLIGHT
TZOFFSETFROM:+0100
TZOFFSETTO:+0200
TZNAME:CEST
DTSTART:20090329T010000
END:DAYLIGHT
BEGIN:STANDARD
TZOFFSETFROM:+0200
TZOFFSETTO:+0100
TZNAME:CET
DTSTART:20091025T010000
END:STANDARD
END:VTIMEZONE
BEGIN:VEVENT
DTSTART;VALUE=DATE:20090928
DTEND;VALUE=DATE:20090929
DTSTAMP:20260424T194520
CREATED:20180408T103307Z
LAST-MODIFIED:20180408T103307Z
UID:1624-1254096000-1254182399@www.sef-bale.ch
SUMMARY:L’immigration dans l’Europe de l’Ouest
DESCRIPTION:
URL:https://www.sef-bale.ch/conference/limmigration-dans-leurope-de-louest/
CATEGORIES:Conférences passées
END:VEVENT
END:VCALENDAR