BEGIN:VCALENDAR
VERSION:2.0
PRODID:-//Société d&#039;études françaises - ECPv6.3.2//NONSGML v1.0//EN
CALSCALE:GREGORIAN
METHOD:PUBLISH
X-ORIGINAL-URL:https://www.sef-bale.ch
X-WR-CALDESC:évènements pour Société d&#039;études françaises
REFRESH-INTERVAL;VALUE=DURATION:PT1H
X-Robots-Tag:noindex
X-PUBLISHED-TTL:PT1H
BEGIN:VTIMEZONE
TZID:Europe/Paris
BEGIN:DAYLIGHT
TZOFFSETFROM:+0100
TZOFFSETTO:+0200
TZNAME:CEST
DTSTART:20090329T010000
END:DAYLIGHT
BEGIN:STANDARD
TZOFFSETFROM:+0200
TZOFFSETTO:+0100
TZNAME:CET
DTSTART:20091025T010000
END:STANDARD
END:VTIMEZONE
BEGIN:VEVENT
DTSTART;VALUE=DATE:20091116
DTEND;VALUE=DATE:20091117
DTSTAMP:20260424T181842
CREATED:20180408T103357Z
LAST-MODIFIED:20180408T103357Z
UID:1781-1258329600-1258415999@www.sef-bale.ch
SUMMARY:Un coup d’État pas comme les autres : Bonaparte prend le pouvoir (18 Brumaire / 9-10 novembre 1799)
DESCRIPTION:
URL:https://www.sef-bale.ch/conference/un-coup-detat-pas-comme-les-autres-bonaparte-prend-le-pouvoir-18-brumaire-9-10-novembre-1799/
CATEGORIES:Conférences passées
END:VEVENT
END:VCALENDAR