BEGIN:VCALENDAR
VERSION:2.0
PRODID:-//Société d&#039;études françaises - ECPv6.3.2//NONSGML v1.0//EN
CALSCALE:GREGORIAN
METHOD:PUBLISH
X-ORIGINAL-URL:https://www.sef-bale.ch
X-WR-CALDESC:évènements pour Société d&#039;études françaises
REFRESH-INTERVAL;VALUE=DURATION:PT1H
X-Robots-Tag:noindex
X-PUBLISHED-TTL:PT1H
BEGIN:VTIMEZONE
TZID:Europe/Paris
BEGIN:DAYLIGHT
TZOFFSETFROM:+0100
TZOFFSETTO:+0200
TZNAME:CEST
DTSTART:20090329T010000
END:DAYLIGHT
BEGIN:STANDARD
TZOFFSETFROM:+0200
TZOFFSETTO:+0100
TZNAME:CET
DTSTART:20091025T010000
END:STANDARD
END:VTIMEZONE
BEGIN:VEVENT
DTSTART;VALUE=DATE:20091214
DTEND;VALUE=DATE:20091215
DTSTAMP:20260423T213336
CREATED:20180408T103321Z
LAST-MODIFIED:20180408T103321Z
UID:1668-1260748800-1260835199@www.sef-bale.ch
SUMMARY:Littérature et psychanalyse. Œdipe entre Sophocle et Freud
DESCRIPTION:
URL:https://www.sef-bale.ch/conference/litterature-et-psychanalyse-oedipe-entre-sophocle-et-freud/
CATEGORIES:Conférences passées
END:VEVENT
END:VCALENDAR