BEGIN:VCALENDAR
VERSION:2.0
PRODID:-//Société d&#039;études françaises - ECPv6.3.2//NONSGML v1.0//EN
CALSCALE:GREGORIAN
METHOD:PUBLISH
X-WR-CALNAME:Société d&#039;études françaises
X-ORIGINAL-URL:https://www.sef-bale.ch
X-WR-CALDESC:évènements pour Société d&#039;études françaises
REFRESH-INTERVAL;VALUE=DURATION:PT1H
X-Robots-Tag:noindex
X-PUBLISHED-TTL:PT1H
BEGIN:VTIMEZONE
TZID:Europe/Paris
BEGIN:DAYLIGHT
TZOFFSETFROM:+0100
TZOFFSETTO:+0200
TZNAME:CEST
DTSTART:20100328T010000
END:DAYLIGHT
BEGIN:STANDARD
TZOFFSETFROM:+0200
TZOFFSETTO:+0100
TZNAME:CET
DTSTART:20101031T010000
END:STANDARD
END:VTIMEZONE
BEGIN:VEVENT
DTSTART;VALUE=DATE:20100315
DTEND;VALUE=DATE:20100316
DTSTAMP:20260423T135745
CREATED:20180408T103354Z
LAST-MODIFIED:20180408T103354Z
UID:1770-1268611200-1268697599@www.sef-bale.ch
SUMMARY:Cosi fan tutte ou cosi fan tutti : Aristote\, Cervantes\, Mozart
DESCRIPTION:
URL:https://www.sef-bale.ch/conference/cosi-fan-tutte-ou-cosi-fan-tutti-aristote-cervantes-mozart/
CATEGORIES:Conférences passées
END:VEVENT
END:VCALENDAR