BEGIN:VCALENDAR
VERSION:2.0
PRODID:-//Société d&#039;études françaises - ECPv6.3.2//NONSGML v1.0//EN
CALSCALE:GREGORIAN
METHOD:PUBLISH
X-ORIGINAL-URL:https://www.sef-bale.ch
X-WR-CALDESC:évènements pour Société d&#039;études françaises
REFRESH-INTERVAL;VALUE=DURATION:PT1H
X-Robots-Tag:noindex
X-PUBLISHED-TTL:PT1H
BEGIN:VTIMEZONE
TZID:Europe/Paris
BEGIN:DAYLIGHT
TZOFFSETFROM:+0100
TZOFFSETTO:+0200
TZNAME:CEST
DTSTART:20110327T010000
END:DAYLIGHT
BEGIN:STANDARD
TZOFFSETFROM:+0200
TZOFFSETTO:+0100
TZNAME:CET
DTSTART:20111030T010000
END:STANDARD
END:VTIMEZONE
BEGIN:VEVENT
DTSTART;VALUE=DATE:20110228
DTEND;VALUE=DATE:20110301
DTSTAMP:20260422T115410
CREATED:20180408T103325Z
LAST-MODIFIED:20180408T103325Z
UID:1682-1298851200-1298937599@www.sef-bale.ch
SUMMARY:Merlin aujourd’hui : un exemple de recyclage littéraire
DESCRIPTION:
URL:https://www.sef-bale.ch/conference/merlin-aujourdhui-un-exemple-de-recyclage-litteraire/
CATEGORIES:Conférences passées
END:VEVENT
END:VCALENDAR