BEGIN:VCALENDAR
VERSION:2.0
PRODID:-//Société d&#039;études françaises - ECPv6.3.2//NONSGML v1.0//EN
CALSCALE:GREGORIAN
METHOD:PUBLISH
X-ORIGINAL-URL:https://www.sef-bale.ch
X-WR-CALDESC:évènements pour Société d&#039;études françaises
REFRESH-INTERVAL;VALUE=DURATION:PT1H
X-Robots-Tag:noindex
X-PUBLISHED-TTL:PT1H
BEGIN:VTIMEZONE
TZID:Europe/Paris
BEGIN:DAYLIGHT
TZOFFSETFROM:+0100
TZOFFSETTO:+0200
TZNAME:CEST
DTSTART:20110327T010000
END:DAYLIGHT
BEGIN:STANDARD
TZOFFSETFROM:+0200
TZOFFSETTO:+0100
TZNAME:CET
DTSTART:20111030T010000
END:STANDARD
END:VTIMEZONE
BEGIN:VEVENT
DTSTART;VALUE=DATE:20111107
DTEND;VALUE=DATE:20111108
DTSTAMP:20260421T191927
CREATED:20180408T103304Z
LAST-MODIFIED:20180408T103304Z
UID:1616-1320624000-1320710399@www.sef-bale.ch
SUMMARY:Gallimard 1911-2011 : une exception française ?
DESCRIPTION:
URL:https://www.sef-bale.ch/conference/gallimard-1911-2011-une-exception-francaise%e2%80%89/
CATEGORIES:Conférences passées
END:VEVENT
END:VCALENDAR