BEGIN:VCALENDAR
VERSION:2.0
PRODID:-//Société d&#039;études françaises - ECPv6.3.2//NONSGML v1.0//EN
CALSCALE:GREGORIAN
METHOD:PUBLISH
X-WR-CALNAME:Société d&#039;études françaises
X-ORIGINAL-URL:https://www.sef-bale.ch
X-WR-CALDESC:évènements pour Société d&#039;études françaises
REFRESH-INTERVAL;VALUE=DURATION:PT1H
X-Robots-Tag:noindex
X-PUBLISHED-TTL:PT1H
BEGIN:VTIMEZONE
TZID:Europe/Paris
BEGIN:DAYLIGHT
TZOFFSETFROM:+0100
TZOFFSETTO:+0200
TZNAME:CEST
DTSTART:20100328T010000
END:DAYLIGHT
BEGIN:STANDARD
TZOFFSETFROM:+0200
TZOFFSETTO:+0100
TZNAME:CET
DTSTART:20101031T010000
END:STANDARD
END:VTIMEZONE
BEGIN:VEVENT
DTSTART;VALUE=DATE:20100208
DTEND;VALUE=DATE:20100209
DTSTAMP:20260423T135735
CREATED:20180408T103305Z
LAST-MODIFIED:20180408T103305Z
UID:1617-1265587200-1265673599@www.sef-bale.ch
SUMMARY:Au commencement\, Dieu... (Genèse 1\,1). Comment\, quand et pourquoi la Bible juive a-t-elle commencé à dire “Dieu” ?
DESCRIPTION:
URL:https://www.sef-bale.ch/conference/au-commencement-dieu-genese-11-comment-quand-et-pourquoi-la-bible-juive-a-t-elle-commence-a-dire-dieu%e2%80%89/
CATEGORIES:Conférences passées
END:VEVENT
END:VCALENDAR