BEGIN:VCALENDAR
VERSION:2.0
PRODID:-//Société d&#039;études françaises - ECPv6.3.2//NONSGML v1.0//EN
CALSCALE:GREGORIAN
METHOD:PUBLISH
X-ORIGINAL-URL:https://www.sef-bale.ch
X-WR-CALDESC:évènements pour Société d&#039;études françaises
REFRESH-INTERVAL;VALUE=DURATION:PT1H
X-Robots-Tag:noindex
X-PUBLISHED-TTL:PT1H
BEGIN:VTIMEZONE
TZID:Europe/Paris
BEGIN:DAYLIGHT
TZOFFSETFROM:+0100
TZOFFSETTO:+0200
TZNAME:CEST
DTSTART:20100328T010000
END:DAYLIGHT
BEGIN:STANDARD
TZOFFSETFROM:+0200
TZOFFSETTO:+0100
TZNAME:CET
DTSTART:20101031T010000
END:STANDARD
END:VTIMEZONE
BEGIN:VEVENT
DTSTART;VALUE=DATE:20100510
DTEND;VALUE=DATE:20100511
DTSTAMP:20260423T091611
CREATED:20180408T103311Z
LAST-MODIFIED:20180408T103311Z
UID:1636-1273449600-1273535999@www.sef-bale.ch
SUMMARY:Faut-il détester la poésie ?
DESCRIPTION:
URL:https://www.sef-bale.ch/conference/faut-il-detester-la-poesie%e2%80%89/
CATEGORIES:Conférences passées
END:VEVENT
BEGIN:VEVENT
DTSTART;VALUE=DATE:20100517
DTEND;VALUE=DATE:20100518
DTSTAMP:20260423T091611
CREATED:20180408T103346Z
LAST-MODIFIED:20180408T103346Z
UID:1744-1274054400-1274140799@www.sef-bale.ch
SUMMARY:Un hommage à Jacques Chessex
DESCRIPTION:
URL:https://www.sef-bale.ch/conference/un-hommage-a-jacques-chessex/
CATEGORIES:Conférences passées
END:VEVENT
BEGIN:VEVENT
DTSTART;VALUE=DATE:20100531
DTEND;VALUE=DATE:20100601
DTSTAMP:20260423T091611
CREATED:20180408T103255Z
LAST-MODIFIED:20180408T103255Z
UID:1604-1275264000-1275350399@www.sef-bale.ch
SUMMARY:Chateaubriand fictif
DESCRIPTION:
URL:https://www.sef-bale.ch/conference/chateaubriand-fictif/
CATEGORIES:Conférences passées
END:VEVENT
END:VCALENDAR