BEGIN:VCALENDAR
VERSION:2.0
PRODID:-//Société d&#039;études françaises - ECPv6.3.2//NONSGML v1.0//EN
CALSCALE:GREGORIAN
METHOD:PUBLISH
X-ORIGINAL-URL:https://www.sef-bale.ch
X-WR-CALDESC:évènements pour Société d&#039;études françaises
REFRESH-INTERVAL;VALUE=DURATION:PT1H
X-Robots-Tag:noindex
X-PUBLISHED-TTL:PT1H
BEGIN:VTIMEZONE
TZID:Europe/Paris
BEGIN:DAYLIGHT
TZOFFSETFROM:+0100
TZOFFSETTO:+0200
TZNAME:CEST
DTSTART:20110327T010000
END:DAYLIGHT
BEGIN:STANDARD
TZOFFSETFROM:+0200
TZOFFSETTO:+0100
TZNAME:CET
DTSTART:20111030T010000
END:STANDARD
END:VTIMEZONE
BEGIN:VEVENT
DTSTART;VALUE=DATE:20111003
DTEND;VALUE=DATE:20111004
DTSTAMP:20260421T175812
CREATED:20180408T103406Z
LAST-MODIFIED:20180408T103406Z
UID:1808-1317600000-1317686399@www.sef-bale.ch
SUMMARY:André Breton ou l’imagination au pouvoir
DESCRIPTION:
URL:https://www.sef-bale.ch/conference/andre-breton-ou-limagination-au-pouvoir/
CATEGORIES:Conférences passées
END:VEVENT
BEGIN:VEVENT
DTSTART;VALUE=DATE:20111010
DTEND;VALUE=DATE:20111011
DTSTAMP:20260421T175812
CREATED:20180408T103348Z
LAST-MODIFIED:20180408T103348Z
UID:1753-1318204800-1318291199@www.sef-bale.ch
SUMMARY:Race et sexe : un couple conceptuel ?
DESCRIPTION:
URL:https://www.sef-bale.ch/conference/race-et-sexe-un-couple-conceptuel%e2%80%89/
CATEGORIES:Conférences passées
END:VEVENT
BEGIN:VEVENT
DTSTART;VALUE=DATE:20111017
DTEND;VALUE=DATE:20111018
DTSTAMP:20260421T175812
CREATED:20180408T103352Z
LAST-MODIFIED:20180408T103352Z
UID:1767-1318809600-1318895999@www.sef-bale.ch
SUMMARY:Élites sociales et vie musicale parisienne sous la Troisième République
DESCRIPTION:
URL:https://www.sef-bale.ch/conference/elites-sociales-et-vie-musicale-parisienne-sous-la-troisieme-republique/
CATEGORIES:Conférences passées
END:VEVENT
BEGIN:VEVENT
DTSTART;VALUE=DATE:20111024
DTEND;VALUE=DATE:20111025
DTSTAMP:20260421T175812
CREATED:20180408T103410Z
LAST-MODIFIED:20180408T103410Z
UID:1818-1319414400-1319500799@www.sef-bale.ch
SUMMARY:Théophile Gautier\, du romantisme à la modernité
DESCRIPTION:
URL:https://www.sef-bale.ch/conference/theophile-gautier-du-romantisme-a-la-modernite/
CATEGORIES:Conférences passées
END:VEVENT
END:VCALENDAR